BEGIN:VCALENDAR
VERSION:2.0
PRODID:gruene-shk.org
METHOD:PUBLISH
BEGIN:VTIMEZONE
TZID:Europe/Berlin
X-LIC-LOCATION:Europe/Berlin
BEGIN:DAYLIGHT
TZOFFSETFROM:+0100
TZOFFSETTO:+0200
TZNAME:CEST
DTSTART:19700329T020000
RRULE:FREQ=YEARLY;INTERVAL=1;BYDAY=-1SU;BYMONTH=3
END:DAYLIGHT
BEGIN:STANDARD
TZOFFSETFROM:+0200
TZOFFSETTO:+0100
TZNAME:CET
DTSTART:19701025T030000
RRULE:FREQ=YEARLY;INTERVAL=1;BYDAY=-1SU;BYMONTH=10
END:STANDARD
END:VTIMEZONE
BEGIN:VEVENT
UID:5543ea60d097ae0de7f2a3b5b637a13e@gruene-shk.org
URL;VALUE=URI:https://gruene-shk.org/termine/herbstempfang/
LOCATION:Felsenkellersaal, Bahnhofstr. 1a, Stadtroda
SUMMARY:Herbstempfang
DESCRIPTION;ALTREP="data:text/html,%0A%3Cp%3EWie%20schon%202025%20laden%2
 0wir%20herzlich%20zu%20unserem%20Herbstempfang%20ein.%20%3C%2Fp%3E%0A%0A%
 0A%0A%3Cp%3EMehr%20Infos%20folgen%20rechtzeitig.%3C%2Fp%3E%0A":Wie schon 
 2025 laden wir herzlich zu unserem Herbstempfang ein.\n\nMehr Infos folge
 n rechtzeitig.
CLASS:PUBLIC
DTSTART;TZID=Europe/Berlin:20261030T173000
DTEND;TZID=Europe/Berlin:20261030T200000
DTSTAMP:20260425T141510
END:VEVENT
END:VCALENDAR